BEGIN:VCALENDAR
VERSION:2.0
PRODID:-//www.arcfc.org//NONSGML kigkonsult.se iCalcreator 2.30.10//
CALSCALE:GREGORIAN
METHOD:PUBLISH
UID:2743bdf7-54a4-4752-ba37-bb4ce2808338
X-WR-CALDESC:
X-WR-RELCALID:b431f0f6740edfcd56bbb3a120513e59
X-WR-TIMEZONE:America/New_York
BEGIN:VTIMEZONE
TZID:America/New_York
BEGIN:STANDARD
TZNAME:EST
DTSTART:20261101T020000
TZOFFSETFROM:-0400
TZOFFSETTO:-0500
RDATE:20271107T020000
RDATE:20281105T020000
END:STANDARD
BEGIN:DAYLIGHT
TZNAME:EDT
DTSTART:20270314T020000
TZOFFSETFROM:-0500
TZOFFSETTO:-0400
RDATE:20280312T020000
END:DAYLIGHT
END:VTIMEZONE
BEGIN:VEVENT
UID:a80b7a9c-14e3-45ff-aecf-95624754def6
DTSTAMP:20260424T114518Z
DESCRIPTION:
DTSTART;TZID=America/New_York:20270704T060000
DTEND;TZID=America/New_York:20270704T060001
LOCATION:
SUMMARY:OFFICE CLOSED - INDEPENDENCE DAY
END:VEVENT
END:VCALENDAR
