BEGIN:VCALENDAR
VERSION:2.0
PRODID:-//www.arcfc.org//NONSGML kigkonsult.se iCalcreator 2.30.10//
CALSCALE:GREGORIAN
METHOD:PUBLISH
UID:f2728f41-9229-4a48-9b8e-983559b55852
X-WR-CALDESC:
X-WR-RELCALID:90e72bc16621e26b8179c856ac383e0c
X-WR-TIMEZONE:America/New_York
BEGIN:VTIMEZONE
TZID:America/New_York
BEGIN:STANDARD
TZNAME:EST
DTSTART:20261101T020000
TZOFFSETFROM:-0400
TZOFFSETTO:-0500
RDATE:20271107T020000
RDATE:20281105T020000
END:STANDARD
BEGIN:DAYLIGHT
TZNAME:EDT
DTSTART:20270314T020000
TZOFFSETFROM:-0500
TZOFFSETTO:-0400
RDATE:20280312T020000
END:DAYLIGHT
END:VTIMEZONE
BEGIN:VEVENT
UID:25d8718a-a9e0-4f3b-b81d-994c5edb7ba4
DTSTAMP:20260424T102751Z
DESCRIPTION:
DTSTART;TZID=America/New_York:20270619T060000
DTEND;TZID=America/New_York:20270619T060001
LOCATION:
SUMMARY:OFFICE CLOSED - JUNETEENTH
END:VEVENT
END:VCALENDAR
