BEGIN:VCALENDAR
VERSION:2.0
PRODID:-//www.arcfc.org//NONSGML kigkonsult.se iCalcreator 2.30.10//
CALSCALE:GREGORIAN
METHOD:PUBLISH
UID:5eb2b653-f2f5-4b6f-b59b-954e9781e4ae
X-WR-CALDESC:
X-WR-RELCALID:695decdd8e232b8cbcc3b8bfb3fe270f
X-WR-TIMEZONE:America/New_York
BEGIN:VTIMEZONE
TZID:America/New_York
BEGIN:STANDARD
TZNAME:EST
DTSTART:20261101T020000
TZOFFSETFROM:-0400
TZOFFSETTO:-0500
RDATE:20271107T020000
RDATE:20281105T020000
END:STANDARD
BEGIN:DAYLIGHT
TZNAME:EDT
DTSTART:20270314T020000
TZOFFSETFROM:-0500
TZOFFSETTO:-0400
RDATE:20280312T020000
END:DAYLIGHT
END:VTIMEZONE
BEGIN:VEVENT
UID:f82e74fd-59a8-464c-8610-d30540cf2972
DTSTAMP:20260424T090140Z
DESCRIPTION:
DTSTART;TZID=America/New_York:20270531T060000
DTEND;TZID=America/New_York:20270531T060001
LOCATION:
SUMMARY:OFFICE CLOSED - MEMORIAL DAY
END:VEVENT
END:VCALENDAR
