BEGIN:VCALENDAR
VERSION:2.0
PRODID:-//www.arcfc.org//NONSGML kigkonsult.se iCalcreator 2.30.10//
CALSCALE:GREGORIAN
METHOD:PUBLISH
UID:eab1e2f9-0a03-4c10-8d53-42ce8229b040
X-WR-CALDESC:The purpose of Global Accessibility Awareness Day (GAAD) is to
  get everyone talking\, thinking and learning about digital access/inclusi
 on and people with different disabilities. Digital accessibility refers to
  the ability of people with disabilities/impairments to independently cons
 ume and/or interact with digital (e.g.\, web\, mobile) applications and co
 ntent. Take a look at WebAIM’s The WebAIM Million\, for a current snapshot
  of trends and issues regarding web accessibility.
X-WR-RELCALID:6f71245196fb84bac67749d27748f875
X-WR-TIMEZONE:America/New_York
BEGIN:VTIMEZONE
TZID:America/New_York
BEGIN:STANDARD
TZNAME:EST
DTSTART:20261101T020000
TZOFFSETFROM:-0400
TZOFFSETTO:-0500
RDATE:20271107T020000
RDATE:20281105T020000
END:STANDARD
BEGIN:DAYLIGHT
TZNAME:EDT
DTSTART:20270314T020000
TZOFFSETFROM:-0500
TZOFFSETTO:-0400
RDATE:20280312T020000
END:DAYLIGHT
END:VTIMEZONE
BEGIN:VEVENT
UID:48644192-7769-4056-a091-26f3c5ecb154
DTSTAMP:20260424T090151Z
DESCRIPTION:The purpose of Global Accessibility Awareness Day (GAAD) is to 
 get everyone talking\, thinking and learning about digital access/inclusio
 n and people with different disabilities. Digital accessibility refers to 
 the ability of people with disabilities/impairments to independently consu
 me and/or interact with digital (e.g.\, web\, mobile) applications and con
 tent. Take a look at WebAIM’s The WebAIM Million\, for a current snapshot 
 of trends and issues regarding web accessibility.
DTSTART;TZID=America/New_York:20270520T060000
DTEND;TZID=America/New_York:20270520T060001
LOCATION:
SUMMARY:Global Accessibility Awareness Day
END:VEVENT
END:VCALENDAR
