BEGIN:VCALENDAR
VERSION:2.0
PRODID:-//www.arcfc.org//NONSGML kigkonsult.se iCalcreator 2.30.10//
CALSCALE:GREGORIAN
METHOD:PUBLISH
UID:68eb7c71-c9b2-4a86-abf1-b7e10332a1e7
X-WR-CALDESC:
X-WR-RELCALID:86c0e2c1ca17199ac2d5ece3d356c4d4
X-WR-TIMEZONE:America/New_York
BEGIN:VTIMEZONE
TZID:America/New_York
BEGIN:STANDARD
TZNAME:EST
DTSTART:20261101T020000
TZOFFSETFROM:-0400
TZOFFSETTO:-0500
RDATE:20271107T020000
END:STANDARD
BEGIN:DAYLIGHT
TZNAME:EDT
DTSTART:20260308T020000
TZOFFSETFROM:-0500
TZOFFSETTO:-0400
RDATE:20270314T020000
RDATE:20280312T020000
END:DAYLIGHT
END:VTIMEZONE
BEGIN:VEVENT
UID:5e124827-3011-4ab2-9e19-de7bd2820c09
DTSTAMP:20260424T042613Z
DESCRIPTION:
DTSTART;TZID=America/New_York:20270215T060000
DTEND;TZID=America/New_York:20270215T060001
LOCATION:
SUMMARY:OFFICE CLOSED - PRESIDENTS' DAY
END:VEVENT
END:VCALENDAR
