BEGIN:VCALENDAR
VERSION:2.0
PRODID:-//www.arcfc.org//NONSGML kigkonsult.se iCalcreator 2.30.10//
CALSCALE:GREGORIAN
METHOD:PUBLISH
UID:c1a7b9d2-bd51-487f-9ea1-f8dad6d5e5c1
X-WR-CALDESC:
X-WR-RELCALID:12100253f80c78097b757583079252db
X-WR-TIMEZONE:America/New_York
BEGIN:VTIMEZONE
TZID:America/New_York
BEGIN:STANDARD
TZNAME:EST
DTSTART:20261101T020000
TZOFFSETFROM:-0400
TZOFFSETTO:-0500
RDATE:20271107T020000
END:STANDARD
BEGIN:DAYLIGHT
TZNAME:EDT
DTSTART:20260308T020000
TZOFFSETFROM:-0500
TZOFFSETTO:-0400
RDATE:20270314T020000
RDATE:20280312T020000
END:DAYLIGHT
END:VTIMEZONE
BEGIN:VEVENT
UID:71ab3b12-282a-436b-b339-03bde58d9d64
DTSTAMP:20260424T030313Z
DESCRIPTION:
DTSTART;TZID=America/New_York:20270118T060000
DTEND;TZID=America/New_York:20270118T060001
LOCATION:
SUMMARY:OFFICE CLOSED - MARTIN LUTHER KING DAY
END:VEVENT
END:VCALENDAR
