BEGIN:VCALENDAR
VERSION:2.0
PRODID:-//www.arcfc.org//NONSGML kigkonsult.se iCalcreator 2.30.10//
CALSCALE:GREGORIAN
METHOD:PUBLISH
UID:4a39f6e1-6e58-47ff-917c-6f0ae8902ca6
X-WR-CALDESC:
X-WR-RELCALID:7be8fd999521e5da10ea453f85ab3c24
X-WR-TIMEZONE:America/New_York
BEGIN:VTIMEZONE
TZID:America/New_York
BEGIN:STANDARD
TZNAME:EST
DTSTART:20261101T020000
TZOFFSETFROM:-0400
TZOFFSETTO:-0500
RDATE:20271107T020000
END:STANDARD
BEGIN:DAYLIGHT
TZNAME:EDT
DTSTART:20260308T020000
TZOFFSETFROM:-0500
TZOFFSETTO:-0400
RDATE:20270314T020000
RDATE:20280312T020000
END:DAYLIGHT
END:VTIMEZONE
BEGIN:VEVENT
UID:ff0892b1-b4cc-4b2b-95f3-d4f96c09c0cd
DTSTAMP:20260424T012845Z
DESCRIPTION:
DTSTART;TZID=America/New_York:20261225T060000
DTEND;TZID=America/New_York:20261225T060001
LOCATION:
SUMMARY:OFFICE CLOSED - CHRISTMAS DAY
END:VEVENT
END:VCALENDAR
