BEGIN:VCALENDAR
VERSION:2.0
PRODID:-//www.arcfc.org//NONSGML kigkonsult.se iCalcreator 2.30.10//
CALSCALE:GREGORIAN
METHOD:PUBLISH
UID:77b2d52b-20a2-421c-a948-0069682b596a
X-WR-CALDESC:
X-WR-RELCALID:8bf94e18a7dec22310d2cd829da272a3
X-WR-TIMEZONE:America/New_York
BEGIN:VTIMEZONE
TZID:America/New_York
BEGIN:STANDARD
TZNAME:EST
DTSTART:20261101T020000
TZOFFSETFROM:-0400
TZOFFSETTO:-0500
RDATE:20271107T020000
END:STANDARD
BEGIN:DAYLIGHT
TZNAME:EDT
DTSTART:20260308T020000
TZOFFSETFROM:-0500
TZOFFSETTO:-0400
RDATE:20270314T020000
RDATE:20280312T020000
END:DAYLIGHT
END:VTIMEZONE
BEGIN:VEVENT
UID:7081712c-4bd8-4615-b228-4f24cd9f448f
DTSTAMP:20260424T001249Z
DESCRIPTION:
DTSTART;TZID=America/New_York:20261126T060000
DTEND;TZID=America/New_York:20261126T060001
LOCATION:
SUMMARY:OFFICE CLOSED - THANKSGIVING
END:VEVENT
END:VCALENDAR
