BEGIN:VCALENDAR
VERSION:2.0
PRODID:-//www.arcfc.org//NONSGML kigkonsult.se iCalcreator 2.30.10//
CALSCALE:GREGORIAN
METHOD:PUBLISH
UID:a4e5d0b5-046b-461f-aadc-cf36c8e9f8d5
X-WR-CALDESC:Tiene el placer de invitarles al Grupo de Apoyo Hispano para p
 ersonas con discapacidades\, sus familiares y cuidadores.  Tendremos confe
 rencias educativas\, apoyo para presentar Solicitudes y Referidos\, inform
 ación sobre programas y otras actividades.  Tendrá oportunidad de conocer 
 personas y grupos de nuestra comunidad.
X-WR-RELCALID:5622f731af78d40269726fe8b3e53490
X-WR-TIMEZONE:America/New_York
BEGIN:VTIMEZONE
TZID:America/New_York
BEGIN:STANDARD
TZNAME:EST
DTSTART:20251102T020000
TZOFFSETFROM:-0400
TZOFFSETTO:-0500
RDATE:20261101T020000
RDATE:20271107T020000
END:STANDARD
BEGIN:DAYLIGHT
TZNAME:EDT
DTSTART:20260308T020000
TZOFFSETFROM:-0500
TZOFFSETTO:-0400
RDATE:20270314T020000
RDATE:20280312T020000
END:DAYLIGHT
END:VTIMEZONE
BEGIN:VEVENT
UID:aa3ce5a9-d951-4153-b70f-1f6068f34c27
DTSTAMP:20260423T225419Z
DESCRIPTION:Tiene el placer de invitarles al Grupo de Apoyo Hispano para pe
 rsonas con discapacidades\, sus familiares y cuidadores.  Tendremos confer
 encias educativas\, apoyo para presentar Solicitudes y Referidos\, informa
 ción sobre programas y otras actividades.  Tendrá oportunidad de conocer p
 ersonas y grupos de nuestra comunidad.
DTSTART;TZID=America/New_York:20261017T110000
DTEND;TZID=America/New_York:20261017T130000
LOCATION:The Arc at Market Street\, 555 South Market Street\, Frederick\, M
 D 21701 US
SUMMARY:Grupo de Apoyo Hispano
END:VEVENT
END:VCALENDAR
