BEGIN:VCALENDAR
VERSION:2.0
PRODID:-//www.arcfc.org//NONSGML kigkonsult.se iCalcreator 2.30.10//
CALSCALE:GREGORIAN
METHOD:PUBLISH
UID:8a8fa2bf-58d4-4b94-a8a2-8e4cbc5db1ed
X-WR-CALDESC:
X-WR-RELCALID:f6d2997192556973baf9b7e3c3cbcae1
X-WR-TIMEZONE:America/New_York
BEGIN:VTIMEZONE
TZID:America/New_York
BEGIN:STANDARD
TZNAME:EST
DTSTART:20251102T020000
TZOFFSETFROM:-0400
TZOFFSETTO:-0500
RDATE:20261101T020000
RDATE:20271107T020000
END:STANDARD
BEGIN:DAYLIGHT
TZNAME:EDT
DTSTART:20260308T020000
TZOFFSETFROM:-0500
TZOFFSETTO:-0400
RDATE:20270314T020000
RDATE:20280312T020000
END:DAYLIGHT
END:VTIMEZONE
BEGIN:VEVENT
UID:0fe51946-a6ce-4bf8-a702-7c64792c80c2
DTSTAMP:20260423T224953Z
DESCRIPTION:
DTSTART;TZID=America/New_York:20261013T060000
DTEND;TZID=America/New_York:20261013T060001
LOCATION:
SUMMARY:International Plain Language Day
END:VEVENT
END:VCALENDAR
