BEGIN:VCALENDAR
VERSION:2.0
PRODID:-//www.arcfc.org//NONSGML kigkonsult.se iCalcreator 2.30.10//
CALSCALE:GREGORIAN
METHOD:PUBLISH
UID:531343d1-873d-45e6-bdba-70ccd20c776e
X-WR-CALDESC:
X-WR-RELCALID:805d67bea6ade6ba19cae4a14e892428
X-WR-TIMEZONE:America/New_York
BEGIN:VTIMEZONE
TZID:America/New_York
BEGIN:STANDARD
TZNAME:EST
DTSTART:20251102T020000
TZOFFSETFROM:-0400
TZOFFSETTO:-0500
RDATE:20261101T020000
RDATE:20271107T020000
END:STANDARD
BEGIN:DAYLIGHT
TZNAME:EDT
DTSTART:20260308T020000
TZOFFSETFROM:-0500
TZOFFSETTO:-0400
RDATE:20270314T020000
END:DAYLIGHT
END:VTIMEZONE
BEGIN:VEVENT
UID:f92c9638-d1f9-44c1-ae07-bb8dc3bc14e6
DTSTAMP:20260423T184841Z
DESCRIPTION:
DTSTART;TZID=America/New_York:20260704T060000
DTEND;TZID=America/New_York:20260704T060001
LOCATION:
SUMMARY:OFFICE CLOSED - INDEPENDENCE DAY
END:VEVENT
END:VCALENDAR
