BEGIN:VCALENDAR
VERSION:2.0
PRODID:-//www.arcfc.org//NONSGML kigkonsult.se iCalcreator 2.30.10//
CALSCALE:GREGORIAN
METHOD:PUBLISH
UID:58b3148c-e4bb-4519-877f-acdad595a021
X-WR-CALDESC:The Arc of Frederick County has partnered with the Frederick C
 ounty Sheriff’s Office and Pathfinders for Autism to bring you this traini
 ng on What to Do During a Traffic Stop.  Come interact and practice being 
 pulled over with local deputies and officers. This program is fully inclus
 ive and offered to ALL drivers and passengers of ALL ages.  Participants w
 ill register for a practice time\, learn what to do during a traffic stop\
 , practice being pulled over by local police in a calm environment\, and r
 eceive a free Traffic Stop Toolkit.\n\nFree to attend.  Registration is re
 quired through the link below.
X-WR-RELCALID:ba2320cf2ebeeb7ef78a869410efc9f8
X-WR-TIMEZONE:America/New_York
BEGIN:VTIMEZONE
TZID:America/New_York
BEGIN:STANDARD
TZNAME:EST
DTSTART:20251102T020000
TZOFFSETFROM:-0400
TZOFFSETTO:-0500
RDATE:20261101T020000
RDATE:20271107T020000
END:STANDARD
BEGIN:DAYLIGHT
TZNAME:EDT
DTSTART:20260308T020000
TZOFFSETFROM:-0500
TZOFFSETTO:-0400
RDATE:20270314T020000
END:DAYLIGHT
END:VTIMEZONE
BEGIN:VEVENT
UID:92d8db79-52c6-4fea-9f5d-9b36467aab41
DTSTAMP:20260423T160031Z
DESCRIPTION:The Arc of Frederick County has partnered with the Frederick Co
 unty Sheriff’s Office and Pathfinders for Autism to bring you this trainin
 g on What to Do During a Traffic Stop.  Come interact and practice being p
 ulled over with local deputies and officers. This program is fully inclusi
 ve and offered to ALL drivers and passengers of ALL ages.  Participants wi
 ll register for a practice time\, learn what to do during a traffic stop\,
  practice being pulled over by local police in a calm environment\, and re
 ceive a free Traffic Stop Toolkit.\n\nFree to attend.  Registration is req
 uired through the link below.
DTSTART;TZID=America/New_York:20260527T120000
DTEND;TZID=America/New_York:20260527T160000
LOCATION:Ballenger Creek District Park\, 5420 Ballenger Creek Pike\, Freder
 ick\, MD 21703 US
SUMMARY:What to Do During a Traffic Stop
END:VEVENT
END:VCALENDAR
