BEGIN:VCALENDAR
VERSION:2.0
PRODID:-//www.arcfc.org//NONSGML kigkonsult.se iCalcreator 2.30.10//
CALSCALE:GREGORIAN
METHOD:PUBLISH
UID:c9cf3607-742e-4fb9-b9eb-7286c802630c
X-WR-CALDESC:
X-WR-RELCALID:8c1186eecd731f2f6f61f0c898cbc3fd
X-WR-TIMEZONE:America/New_York
BEGIN:VTIMEZONE
TZID:America/New_York
BEGIN:STANDARD
TZNAME:EST
DTSTART:20251102T020000
TZOFFSETFROM:-0400
TZOFFSETTO:-0500
RDATE:20261101T020000
RDATE:20271107T020000
END:STANDARD
BEGIN:DAYLIGHT
TZNAME:EDT
DTSTART:20260308T020000
TZOFFSETFROM:-0500
TZOFFSETTO:-0400
RDATE:20270314T020000
END:DAYLIGHT
END:VTIMEZONE
BEGIN:VEVENT
UID:4c853982-3d9d-45ba-8d0a-bcbff84886ae
DTSTAMP:20260423T155739Z
DESCRIPTION:
DTSTART;TZID=America/New_York:20260525T060000
DTEND;TZID=America/New_York:20260525T060001
LOCATION:
SUMMARY:OFFICE CLOSED - MEMORIAL DAY
END:VEVENT
END:VCALENDAR
