BEGIN:VCALENDAR
VERSION:2.0
PRODID:-//www.arcfc.org//NONSGML kigkonsult.se iCalcreator 2.30.10//
CALSCALE:GREGORIAN
METHOD:PUBLISH
UID:e229ae48-4309-4841-b85b-af55dd5607ae
X-WR-CALDESC:The purpose of Global Accessibility Awareness Day (GAAD) is to
  get everyone talking\, thinking and learning about digital access/inclusi
 on and people with different disabilities. Digital accessibility refers to
  the ability of people with disabilities/impairments to independently cons
 ume and/or interact with digital (e.g.\, web\, mobile) applications and co
 ntent. Take a look at WebAIM’s The WebAIM Million\, for a current snapshot
  of trends and issues regarding web accessibility.
X-WR-RELCALID:47ce580a8f865695be3f73e1aa1ca9cd
X-WR-TIMEZONE:America/New_York
BEGIN:VTIMEZONE
TZID:America/New_York
BEGIN:STANDARD
TZNAME:EST
DTSTART:20251102T020000
TZOFFSETFROM:-0400
TZOFFSETTO:-0500
RDATE:20261101T020000
RDATE:20271107T020000
END:STANDARD
BEGIN:DAYLIGHT
TZNAME:EDT
DTSTART:20260308T020000
TZOFFSETFROM:-0500
TZOFFSETTO:-0400
RDATE:20270314T020000
END:DAYLIGHT
END:VTIMEZONE
BEGIN:VEVENT
UID:170b548c-bdcf-4535-9db8-109839e5622f
DTSTAMP:20260423T160235Z
DESCRIPTION:The purpose of Global Accessibility Awareness Day (GAAD) is to 
 get everyone talking\, thinking and learning about digital access/inclusio
 n and people with different disabilities. Digital accessibility refers to 
 the ability of people with disabilities/impairments to independently consu
 me and/or interact with digital (e.g.\, web\, mobile) applications and con
 tent. Take a look at WebAIM’s The WebAIM Million\, for a current snapshot 
 of trends and issues regarding web accessibility.
DTSTART;TZID=America/New_York:20260521T060000
DTEND;TZID=America/New_York:20260521T060001
LOCATION:
SUMMARY:Global Accessibility Awareness Day
END:VEVENT
END:VCALENDAR
