BEGIN:VCALENDAR
VERSION:2.0
PRODID:-//www.arcfc.org//NONSGML kigkonsult.se iCalcreator 2.30.10//
CALSCALE:GREGORIAN
METHOD:PUBLISH
UID:3a2d76c5-2c47-4e9b-8b8f-1592d8b66b00
X-WR-CALDESC:
X-WR-RELCALID:02a78a8a70138a58af5ec35b349fdecc
X-WR-TIMEZONE:America/New_York
BEGIN:VTIMEZONE
TZID:America/New_York
BEGIN:STANDARD
TZNAME:EST
DTSTART:20251102T020000
TZOFFSETFROM:-0400
TZOFFSETTO:-0500
RDATE:20261101T020000
RDATE:20271107T020000
END:STANDARD
BEGIN:DAYLIGHT
TZNAME:EDT
DTSTART:20260308T020000
TZOFFSETFROM:-0500
TZOFFSETTO:-0400
RDATE:20270314T020000
END:DAYLIGHT
END:VTIMEZONE
BEGIN:VEVENT
UID:49d293c9-9755-48a7-a300-f48b38e35f03
DTSTAMP:20260423T155019Z
DESCRIPTION:
DTSTART;TZID=America/New_York:20260519T100000
DTEND;TZID=America/New_York:20260519T120000
LOCATION:The Arc at Market Street\, 555 South Market Street\, Frederick\, M
 D 21701 US
SUMMARY:Reverse Job Fair/Employability Showcase
END:VEVENT
END:VCALENDAR
