BEGIN:VCALENDAR
VERSION:2.0
PRODID:-//www.arcfc.org//NONSGML kigkonsult.se iCalcreator 2.30.10//
CALSCALE:GREGORIAN
METHOD:PUBLISH
UID:5257c589-3b57-4143-b75c-7951062c277c
X-WR-CALDESC:Tiene el placer de invitarles al Grupo de Apoyo Hispano para p
 ersonas con discapacidades\, sus familiares y cuidadores.  Tendremos confe
 rencias educativas\, apoyo para presentar Solicitudes y Referidos\, inform
 ación sobre programas y otras actividades.  Tendrá oportunidad de conocer 
 personas y grupos de nuestra comunidad.
X-WR-RELCALID:1196ec556a2b4218960a7c193e2ac769
X-WR-TIMEZONE:America/New_York
BEGIN:VTIMEZONE
TZID:America/New_York
BEGIN:STANDARD
TZNAME:EST
DTSTART:20251102T020000
TZOFFSETFROM:-0400
TZOFFSETTO:-0500
RDATE:20261101T020000
RDATE:20271107T020000
END:STANDARD
BEGIN:DAYLIGHT
TZNAME:EDT
DTSTART:20260308T020000
TZOFFSETFROM:-0500
TZOFFSETTO:-0400
RDATE:20270314T020000
END:DAYLIGHT
END:VTIMEZONE
BEGIN:VEVENT
UID:c40b1dea-f709-4e6a-b016-cea2671b51de
DTSTAMP:20260423T155631Z
DESCRIPTION:Tiene el placer de invitarles al Grupo de Apoyo Hispano para pe
 rsonas con discapacidades\, sus familiares y cuidadores.  Tendremos confer
 encias educativas\, apoyo para presentar Solicitudes y Referidos\, informa
 ción sobre programas y otras actividades.  Tendrá oportunidad de conocer p
 ersonas y grupos de nuestra comunidad.
DTSTART;TZID=America/New_York:20260516T110000
DTEND;TZID=America/New_York:20260516T130000
LOCATION:The Arc at Market Street\, 555 South Market Street\, Frederick\, M
 D 21701 US
SUMMARY:Grupo de Apoyo Hispano
END:VEVENT
END:VCALENDAR
