BEGIN:VCALENDAR
VERSION:2.0
PRODID:-//www.arcfc.org//NONSGML kigkonsult.se iCalcreator 2.30.10//
CALSCALE:GREGORIAN
METHOD:PUBLISH
UID:ab19eaac-971f-4aad-b23c-5e467195c66b
X-WR-CALDESC:Enjoy a free Stand-Up Comedy show presented by the Church of S
 atire at Bushwaller's!  The show will be hosted by and feature Steve Bicke
 l\, and headlined by Jay Yoder\, a nationally touring stand-up comedian an
 d an educator of 20+ years. His comedy draws from parenting\, teaching\, a
 nd everyday chaos\, blending sharp storytelling with big\, relatable laugh
 s. He performs regularly at Soul Joel’s when he is not on the road with th
 e Bored Teachers Comedy Tour.\n\nThe Arc of Frederick County is grateful t
 o benefit as Bushwaller's Non-Profit of the Month!
X-WR-RELCALID:84e0bc7d6a20e29c37f26d52b019dcf9
X-WR-TIMEZONE:America/New_York
BEGIN:VTIMEZONE
TZID:America/New_York
BEGIN:STANDARD
TZNAME:EST
DTSTART:20251102T020000
TZOFFSETFROM:-0400
TZOFFSETTO:-0500
RDATE:20261101T020000
END:STANDARD
BEGIN:DAYLIGHT
TZNAME:EDT
DTSTART:20260308T020000
TZOFFSETFROM:-0500
TZOFFSETTO:-0400
RDATE:20270314T020000
END:DAYLIGHT
END:VTIMEZONE
BEGIN:VEVENT
UID:b8e10e53-7965-4674-ba01-c42d26b4be8d
DTSTAMP:20260420T232105Z
DESCRIPTION:Enjoy a free Stand-Up Comedy show presented by the Church of Sa
 tire at Bushwaller's!  The show will be hosted by and feature Steve Bickel
 \, and headlined by Jay Yoder\, a nationally touring stand-up comedian and
  an educator of 20+ years. His comedy draws from parenting\, teaching\, an
 d everyday chaos\, blending sharp storytelling with big\, relatable laughs
 . He performs regularly at Soul Joel’s when he is not on the road with the
  Bored Teachers Comedy Tour.\n\nThe Arc of Frederick County is grateful to
  benefit as Bushwaller's Non-Profit of the Month!
DTSTART;TZID=America/New_York:20260426T120000
DTEND;TZID=America/New_York:20260426T130000
LOCATION:Bushwaller's Irish Pub & Restaurant\, 209 North Market Street\, Fr
 ederick\, MD 21701 US
SUMMARY:Stand-Up Comedy Brunch at Bushwaller's
END:VEVENT
END:VCALENDAR
