BEGIN:VCALENDAR
VERSION:2.0
PRODID:-//www.arcfc.org//NONSGML kigkonsult.se iCalcreator 2.30.10//
CALSCALE:GREGORIAN
METHOD:PUBLISH
UID:0375c5b9-e982-41b8-9b1d-39115950cd93
X-WR-CALDESC:Each Tuesday in April\, The Arc will receive a portion of proc
 eeds from sales as part of Bentztown Benefit Tuesdays! Just let your serve
 r know you're there to support The Arc\, or you can order online\, and use
  our code ARC04!
X-WR-RELCALID:0cbc123e9a204a97fc161f2a7deffc55
X-WR-TIMEZONE:America/New_York
BEGIN:VTIMEZONE
TZID:America/New_York
BEGIN:STANDARD
TZNAME:EST
DTSTART:20251102T020000
TZOFFSETFROM:-0400
TZOFFSETTO:-0500
RDATE:20261101T020000
END:STANDARD
BEGIN:DAYLIGHT
TZNAME:EDT
DTSTART:20260308T020000
TZOFFSETFROM:-0500
TZOFFSETTO:-0400
RDATE:20270314T020000
END:DAYLIGHT
END:VTIMEZONE
BEGIN:VEVENT
UID:a0f47777-2886-4b89-bbf5-2667d63a00e0
DTSTAMP:20260420T232820Z
DESCRIPTION:Each Tuesday in April\, The Arc will receive a portion of proce
 eds from sales as part of Bentztown Benefit Tuesdays! Just let your server
  know you're there to support The Arc\, or you can order online\, and use 
 our code ARC04!
DTSTART;TZID=America/New_York:20260421T060000
DTEND;TZID=America/New_York:20260421T060001
LOCATION:Bentztown\, 6 South Bentz Street\, Frederick\, MD 21701 US
SUMMARY:Bentztown Benefit Tuesday
END:VEVENT
END:VCALENDAR
