BEGIN:VCALENDAR
VERSION:2.0
PRODID:-//www.arcfc.org//NONSGML kigkonsult.se iCalcreator 2.30.10//
CALSCALE:GREGORIAN
METHOD:PUBLISH
UID:2b5a78f5-bbc2-4f20-857b-13500558bb5d
X-WR-CALDESC:Join us for the official launch of The Many Ways We Speak\, th
 e newest children’s book by Chaunetta Anderson. Held in honor of Autism Aw
 areness Month\, this meaningful community gathering celebrates communicati
 on in all its forms and creates space for connection\, learning\, and unde
 rstanding.\n\nThis event will feature:\n• A live panel discussion with par
 ents and community professionals\n• An author reading and book signing\n• 
 Community connection opportunities\n• A calm\, sensory-considerate environ
 ment\n\nThis is a free event\, and all are welcome. For guests who would l
 ike to support the event and receive a signed book or sensory gift bundle\
 , ticket packages are available.
X-WR-RELCALID:5b1252674c15b47212a1dbeb9d82f1e1
X-WR-TIMEZONE:America/New_York
BEGIN:VTIMEZONE
TZID:America/New_York
BEGIN:STANDARD
TZNAME:EST
DTSTART:20251102T020000
TZOFFSETFROM:-0400
TZOFFSETTO:-0500
RDATE:20261101T020000
END:STANDARD
BEGIN:DAYLIGHT
TZNAME:EDT
DTSTART:20260308T020000
TZOFFSETFROM:-0500
TZOFFSETTO:-0400
RDATE:20270314T020000
END:DAYLIGHT
END:VTIMEZONE
BEGIN:VEVENT
UID:7762ce83-7ad2-4f15-9dab-2e74aaf8f62f
DTSTAMP:20260423T142049Z
DESCRIPTION:Join us for the official launch of The Many Ways We Speak\, the
  newest children’s book by Chaunetta Anderson. Held in honor of Autism Awa
 reness Month\, this meaningful community gathering celebrates communicatio
 n in all its forms and creates space for connection\, learning\, and under
 standing.\n\nThis event will feature:\n• A live panel discussion with pare
 nts and community professionals\n• An author reading and book signing\n• C
 ommunity connection opportunities\n• A calm\, sensory-considerate environm
 ent\n\nThis is a free event\, and all are welcome. For guests who would li
 ke to support the event and receive a signed book or sensory gift bundle\,
  ticket packages are available.
DTSTART;TZID=America/New_York:20260418T130000
DTEND;TZID=America/New_York:20260418T150000
LOCATION:The Arc at Market Street\, 555 South Market Street\, Frederick\, M
 D 21701 US
SUMMARY:Voices Beyond Words: Book Launch
END:VEVENT
END:VCALENDAR
