BEGIN:VCALENDAR
VERSION:2.0
PRODID:-//www.arcfc.org//NONSGML kigkonsult.se iCalcreator 2.30.10//
CALSCALE:GREGORIAN
METHOD:PUBLISH
UID:71210cea-b974-463e-8700-e24dc29cccc4
X-WR-CALDESC:Join us for the April meeting of Voices of Ability as we talk 
 about how to speak up for our rights!\nPlease bring $5 for food\, and $10 
 if you would like to stay and play at Spinners.  Please RSVP by emailing M
 egan Dewing.
X-WR-RELCALID:76ba6cd0b2f68277d8045039e41cdce7
X-WR-TIMEZONE:America/New_York
BEGIN:VTIMEZONE
TZID:America/New_York
BEGIN:STANDARD
TZNAME:EST
DTSTART:20251102T020000
TZOFFSETFROM:-0400
TZOFFSETTO:-0500
RDATE:20261101T020000
END:STANDARD
BEGIN:DAYLIGHT
TZNAME:EDT
DTSTART:20260308T020000
TZOFFSETFROM:-0500
TZOFFSETTO:-0400
RDATE:20270314T020000
END:DAYLIGHT
END:VTIMEZONE
BEGIN:VEVENT
UID:8e2e9bc3-bd40-48ef-a782-475752915f77
DTSTAMP:20260423T143154Z
DESCRIPTION:Join us for the April meeting of Voices of Ability as we talk a
 bout how to speak up for our rights!\nPlease bring $5 for food\, and $10 i
 f you would like to stay and play at Spinners.  Please RSVP by emailing Me
 gan Dewing.
DTSTART;TZID=America/New_York:20260408T160000
DTEND;TZID=America/New_York:20260408T180000
LOCATION:Spinners Pinball Arcade\, 1301 West Patrick Street\, Frederick\, M
 D 21701 US
SUMMARY:Voices of Ability Meeting
END:VEVENT
END:VCALENDAR
