BEGIN:VCALENDAR
VERSION:2.0
PRODID:-//www.arcfc.org//NONSGML kigkonsult.se iCalcreator 2.30.10//
CALSCALE:GREGORIAN
METHOD:PUBLISH
UID:a1b75d9e-8b11-43bd-b581-674c122dd0ea
X-WR-CALDESC:Join us for an exciting and informative event designed for stu
 dents with disabilities and their families as they prepare for life after 
 school.
X-WR-RELCALID:f7f400f85b29ef15816f0e0f75bf5f00
X-WR-TIMEZONE:America/New_York
BEGIN:VTIMEZONE
TZID:America/New_York
BEGIN:STANDARD
TZNAME:EST
DTSTART:20251102T020000
TZOFFSETFROM:-0400
TZOFFSETTO:-0500
RDATE:20261101T020000
END:STANDARD
BEGIN:DAYLIGHT
TZNAME:EDT
DTSTART:20260308T020000
TZOFFSETFROM:-0500
TZOFFSETTO:-0400
RDATE:20270314T020000
END:DAYLIGHT
END:VTIMEZONE
BEGIN:VEVENT
UID:bdf288cc-2a7d-4412-aba1-f2ba0311921d
DTSTAMP:20260423T153207Z
DESCRIPTION:Join us for an exciting and informative event designed for stud
 ents with disabilities and their families as they prepare for life after s
 chool.
DTSTART;TZID=America/New_York:20260328T100000
DTEND;TZID=America/New_York:20260328T140000
LOCATION:Frederick Fairgrounds\, Frederick\, MD 21701 US
SUMMARY:Frederick County Transitioning Youth Fair
END:VEVENT
END:VCALENDAR
