BEGIN:VCALENDAR
VERSION:2.0
PRODID:-//www.arcfc.org//NONSGML kigkonsult.se iCalcreator 2.30.10//
CALSCALE:GREGORIAN
METHOD:PUBLISH
UID:9abd6a22-7373-49b6-8657-36f664b4c7b3
X-WR-CALDESC:Who: Everyone affected by The Governor’s drastic budget cuts t
 o DD services\, especially people who use provider supports\, family membe
 rs\, and provider staff\n\nSigns:  Do not bring signs with sticks or handl
 es of any kind.  The DD Coalition and Arc Maryland will have signs availab
 le for people to hold. If you want to bring your own signs\, they should b
 e handheld with no sticks attached (this is strongly enforced by Capitol p
 olice) and be respectful of people with disabilities.\n\nParking: The two 
 closest garages to Lawyer’s Mall are the Noah Hillman garage and the Gott’
 s Court garage. There is also 2-hour street parking that can be paid for w
 ith the Park Mobile app on your phone. The Arc will reimburse your parking
  expenses with a receipt. The rally begins at 12:00PM\, so with limited mi
 d-day parking\, we encourage that you are parked and headed to the rally l
 ocation by 11:30AM.
X-WR-RELCALID:fec5ae59ffb17e6c52cd2dbd1ec8e9c8
X-WR-TIMEZONE:America/New_York
BEGIN:VTIMEZONE
TZID:America/New_York
BEGIN:STANDARD
TZNAME:EST
DTSTART:20251102T020000
TZOFFSETFROM:-0400
TZOFFSETTO:-0500
RDATE:20261101T020000
END:STANDARD
BEGIN:DAYLIGHT
TZNAME:EDT
DTSTART:20260308T020000
TZOFFSETFROM:-0500
TZOFFSETTO:-0400
RDATE:20270314T020000
END:DAYLIGHT
END:VTIMEZONE
BEGIN:VEVENT
UID:9e41883d-6b89-492a-9884-4e116b9158c3
DTSTAMP:20260423T152312Z
DESCRIPTION:Who: Everyone affected by The Governor’s drastic budget cuts to
  DD services\, especially people who use provider supports\, family member
 s\, and provider staff\n\nSigns:  Do not bring signs with sticks or handle
 s of any kind.  The DD Coalition and Arc Maryland will have signs availabl
 e for people to hold. If you want to bring your own signs\, they should be
  handheld with no sticks attached (this is strongly enforced by Capitol po
 lice) and be respectful of people with disabilities.\n\nParking: The two c
 losest garages to Lawyer’s Mall are the Noah Hillman garage and the Gott’s
  Court garage. There is also 2-hour street parking that can be paid for wi
 th the Park Mobile app on your phone. The Arc will reimburse your parking 
 expenses with a receipt. The rally begins at 12:00PM\, so with limited mid
 -day parking\, we encourage that you are parked and headed to the rally lo
 cation by 11:30AM.
DTSTART;TZID=America/New_York:20260312T120000
DTEND;TZID=America/New_York:20260312T140000
LOCATION:Lawyer's Mall\, 100 State Circle\, Annapolis\, MD 21401 US
SUMMARY:DD Services Rally: 'We Can't Go Back\, We Won't Go Back'
END:VEVENT
END:VCALENDAR
