BEGIN:VCALENDAR
VERSION:2.0
PRODID:-//www.arcfc.org//NONSGML kigkonsult.se iCalcreator 2.30.10//
CALSCALE:GREGORIAN
METHOD:PUBLISH
UID:46b98a22-b879-42c6-be71-2018c6ab173f
X-WR-CALDESC:Join us as we return to meeting at Spinners! We will talk abou
 t the history of the self advocacy movement! We will meet from 4 pm - 5 pm
 \, and hang out and play games from 5 pm - 6 pm.\nPlease bring $5 for food
 \, and $10 to stay and play at Spinners.  Please RSVP to Megan Dewing.
X-WR-RELCALID:23d9a91e108d1640bace9853a7c06823
X-WR-TIMEZONE:America/New_York
BEGIN:VTIMEZONE
TZID:America/New_York
BEGIN:STANDARD
TZNAME:EST
DTSTART:20251102T020000
TZOFFSETFROM:-0400
TZOFFSETTO:-0500
RDATE:20261101T020000
END:STANDARD
BEGIN:DAYLIGHT
TZNAME:EDT
DTSTART:20260308T020000
TZOFFSETFROM:-0500
TZOFFSETTO:-0400
RDATE:20270314T020000
END:DAYLIGHT
END:VTIMEZONE
BEGIN:VEVENT
UID:758eb05a-f11b-43d7-afb8-dcdd757cdf4c
DTSTAMP:20260423T152740Z
DESCRIPTION:Join us as we return to meeting at Spinners! We will talk about
  the history of the self advocacy movement! We will meet from 4 pm - 5 pm\
 , and hang out and play games from 5 pm - 6 pm.\nPlease bring $5 for food\
 , and $10 to stay and play at Spinners.  Please RSVP to Megan Dewing.
DTSTART;TZID=America/New_York:20260311T160000
DTEND;TZID=America/New_York:20260311T180000
LOCATION:Spinners Pinball Arcade\, 1301 West Patrick Street\, Frederick\, M
 D 21701 US
SUMMARY:Voices of Ability Meeting
END:VEVENT
END:VCALENDAR
