BEGIN:VCALENDAR
VERSION:2.0
PRODID:-//www.arcfc.org//NONSGML kigkonsult.se iCalcreator 2.30.10//
CALSCALE:GREGORIAN
METHOD:PUBLISH
UID:edb4100a-465f-400e-963d-7f5f474363b3
X-WR-CALDESC:Parents' Day Out is a program provided for parents with childr
 en between the ages of 5-14 with a disability. Parents- you can drop your 
 child off and enjoy the day to yourself! There will be arts and crafts\, g
 ames\, and other fun activities for your child in a safe and positive envi
 ronment.
X-WR-RELCALID:42c71540f9c1afe22e2d27211fb975ef
X-WR-TIMEZONE:America/New_York
BEGIN:VTIMEZONE
TZID:America/New_York
BEGIN:STANDARD
TZNAME:EST
DTSTART:20251102T020000
TZOFFSETFROM:-0400
TZOFFSETTO:-0500
RDATE:20261101T020000
END:STANDARD
BEGIN:DAYLIGHT
TZNAME:EDT
DTSTART:20250309T020000
TZOFFSETFROM:-0500
TZOFFSETTO:-0400
RDATE:20260308T020000
RDATE:20270314T020000
END:DAYLIGHT
END:VTIMEZONE
BEGIN:VEVENT
UID:46dc9934-74ad-46da-a86f-7bd1f3ab0f76
DTSTAMP:20260423T152216Z
DESCRIPTION:Parents' Day Out is a program provided for parents with childre
 n between the ages of 5-14 with a disability. Parents- you can drop your c
 hild off and enjoy the day to yourself! There will be arts and crafts\, ga
 mes\, and other fun activities for your child in a safe and positive envir
 onment.
DTSTART;TZID=America/New_York:20260307T100000
DTEND;TZID=America/New_York:20260307T140000
LOCATION:The Arc at Market Street\, 555 South Market Street\, Frederick\, M
 D 21701 US
SUMMARY:Parents' Day Out
END:VEVENT
END:VCALENDAR
