BEGIN:VCALENDAR
VERSION:2.0
PRODID:-//www.arcfc.org//NONSGML kigkonsult.se iCalcreator 2.30.10//
CALSCALE:GREGORIAN
METHOD:PUBLISH
UID:c7b71db2-6189-42b0-bf3f-ee1748f52945
X-WR-CALDESC:
X-WR-RELCALID:7f1e84ce5edd370408047527ef828001
X-WR-TIMEZONE:America/New_York
BEGIN:VTIMEZONE
TZID:America/New_York
BEGIN:STANDARD
TZNAME:EST
DTSTART:20251102T020000
TZOFFSETFROM:-0400
TZOFFSETTO:-0500
RDATE:20261101T020000
END:STANDARD
BEGIN:DAYLIGHT
TZNAME:EDT
DTSTART:20250309T020000
TZOFFSETFROM:-0500
TZOFFSETTO:-0400
RDATE:20260308T020000
RDATE:20270314T020000
END:DAYLIGHT
END:VTIMEZONE
BEGIN:VEVENT
UID:a59f5202-f639-4c18-807c-d303bfe2cc90
DTSTAMP:20260423T170133Z
DESCRIPTION:
DTSTART;TZID=America/New_York:20260216T060000
DTEND;TZID=America/New_York:20260216T060001
LOCATION:
SUMMARY:OFFICE CLOSED - PRESIDENTS' DAY
END:VEVENT
END:VCALENDAR
