BEGIN:VCALENDAR
VERSION:2.0
PRODID:-//www.arcfc.org//NONSGML kigkonsult.se iCalcreator 2.30.10//
CALSCALE:GREGORIAN
METHOD:PUBLISH
UID:4cc77cfc-a946-429d-8085-1bde745610e7
X-WR-CALDESC:SibShops is a workshop series for kids age 8-13 who are a sibl
 ing of someone with a disability. We will discuss issues related to being 
 a sibling of someone with a disability\, play\, do crafts\, eat snacks\, a
 nd just have fun!\n\nRegistration is required.
X-WR-RELCALID:7484a9e829a2b686888d17cc87f44a34
X-WR-TIMEZONE:America/New_York
BEGIN:VTIMEZONE
TZID:America/New_York
BEGIN:STANDARD
TZNAME:EST
DTSTART:20251102T020000
TZOFFSETFROM:-0400
TZOFFSETTO:-0500
RDATE:20261101T020000
END:STANDARD
BEGIN:DAYLIGHT
TZNAME:EDT
DTSTART:20250309T020000
TZOFFSETFROM:-0500
TZOFFSETTO:-0400
RDATE:20260308T020000
RDATE:20270314T020000
END:DAYLIGHT
END:VTIMEZONE
BEGIN:VEVENT
UID:a9889750-4cff-4792-8569-5a68e0ac6763
DTSTAMP:20260423T171951Z
DESCRIPTION:SibShops is a workshop series for kids age 8-13 who are a sibli
 ng of someone with a disability. We will discuss issues related to being a
  sibling of someone with a disability\, play\, do crafts\, eat snacks\, an
 d just have fun!\n\nRegistration is required.
DTSTART;TZID=America/New_York:20260214T130000
DTEND;TZID=America/New_York:20260214T160000
LOCATION:The Arc at Market Street\, 555 South Market Street\, Frederick\, M
 D 21701 US
SUMMARY:Sibshops
END:VEVENT
END:VCALENDAR
