BEGIN:VCALENDAR
VERSION:2.0
PRODID:-//www.arcfc.org//NONSGML kigkonsult.se iCalcreator 2.30.10//
CALSCALE:GREGORIAN
METHOD:PUBLISH
UID:0feee58d-bb4d-4074-8e6a-54927ffb2928
X-WR-CALDESC:Meet the Go Team Therapy Dogs at Brunswick library.
X-WR-RELCALID:e9d10c5385a2b05e92191c1500b90d54
X-WR-TIMEZONE:America/New_York
BEGIN:VTIMEZONE
TZID:America/New_York
BEGIN:STANDARD
TZNAME:EST
DTSTART:20251102T020000
TZOFFSETFROM:-0400
TZOFFSETTO:-0500
RDATE:20261101T020000
END:STANDARD
BEGIN:DAYLIGHT
TZNAME:EDT
DTSTART:20250309T020000
TZOFFSETFROM:-0500
TZOFFSETTO:-0400
RDATE:20260308T020000
RDATE:20270314T020000
END:DAYLIGHT
END:VTIMEZONE
BEGIN:VEVENT
UID:b9b6e2e1-85f8-44a6-b1b4-c74598986ce3
DTSTAMP:20260423T182730Z
DESCRIPTION:Meet the Go Team Therapy Dogs at Brunswick library.
DTSTART;TZID=America/New_York:20260123T110000
DTEND;TZID=America/New_York:20260123T120000
LOCATION:Brunswick Branch Library\, 915 North Maple Avenue\, Brunswick\, MD
  21716 US
SUMMARY:Go Team Therapy Dogs - FCPL Adaptive Program
END:VEVENT
END:VCALENDAR
