BEGIN:VCALENDAR
VERSION:2.0
PRODID:-//www.arcfc.org//NONSGML kigkonsult.se iCalcreator 2.30.10//
CALSCALE:GREGORIAN
METHOD:PUBLISH
UID:4e92f73a-54d4-467a-b4be-a87fe3a6df52
X-WR-CALDESC:Do you like juggling\, tricks\, and lots of fun? Join Walkersv
 ille Library to clown around with Theatricks!
X-WR-RELCALID:97a1a4c6b327b04213b14c8db75d8805
X-WR-TIMEZONE:America/New_York
BEGIN:VTIMEZONE
TZID:America/New_York
BEGIN:STANDARD
TZNAME:EST
DTSTART:20251102T020000
TZOFFSETFROM:-0400
TZOFFSETTO:-0500
RDATE:20261101T020000
END:STANDARD
BEGIN:DAYLIGHT
TZNAME:EDT
DTSTART:20250309T020000
TZOFFSETFROM:-0500
TZOFFSETTO:-0400
RDATE:20260308T020000
RDATE:20270314T020000
END:DAYLIGHT
END:VTIMEZONE
BEGIN:VEVENT
UID:e3300fef-1757-4311-b31b-aa021c926c7b
DTSTAMP:20260423T182326Z
DESCRIPTION:Do you like juggling\, tricks\, and lots of fun? Join Walkersvi
 lle Library to clown around with Theatricks!
DTSTART;TZID=America/New_York:20260121T101500
DTEND;TZID=America/New_York:20260121T111500
LOCATION:Walkersville Branch Library\, 2 South Glade Road\, Walkersville\, 
 MD 21793 US
SUMMARY:Theatricks! - FCPL Adaptive Program
END:VEVENT
END:VCALENDAR
