BEGIN:VCALENDAR
VERSION:2.0
PRODID:-//www.arcfc.org//NONSGML kigkonsult.se iCalcreator 2.30.10//
CALSCALE:GREGORIAN
METHOD:PUBLISH
UID:c98ebcfb-0cd9-4720-a8a6-a31509a604b8
X-WR-CALDESC:Join Emmitsburg Library and meet 930 WFMD's very own Bob Mille
 r while having a fun hour of bingo.
X-WR-RELCALID:c66ded8f64bc77a9015cc75beab13794
X-WR-TIMEZONE:America/New_York
BEGIN:VTIMEZONE
TZID:America/New_York
BEGIN:STANDARD
TZNAME:EST
DTSTART:20251102T020000
TZOFFSETFROM:-0400
TZOFFSETTO:-0500
RDATE:20261101T020000
END:STANDARD
BEGIN:DAYLIGHT
TZNAME:EDT
DTSTART:20250309T020000
TZOFFSETFROM:-0500
TZOFFSETTO:-0400
RDATE:20260308T020000
RDATE:20270314T020000
END:DAYLIGHT
END:VTIMEZONE
BEGIN:VEVENT
UID:5afbf32a-7249-4d66-9f5c-4cffee027782
DTSTAMP:20260423T182923Z
DESCRIPTION:Join Emmitsburg Library and meet 930 WFMD's very own Bob Miller
  while having a fun hour of bingo.
DTSTART;TZID=America/New_York:20260121T110000
DTEND;TZID=America/New_York:20260121T120000
LOCATION:Emmitsburg Branch Library\, 300 South Seton Avenue\, Emmitsburg\, 
 MD 21727 US
SUMMARY:Bingo with 930 WFMD's Bob Miller - FCPL Adaptive Program
END:VEVENT
END:VCALENDAR
