BEGIN:VCALENDAR
VERSION:2.0
PRODID:-//www.arcfc.org//NONSGML kigkonsult.se iCalcreator 2.30.10//
CALSCALE:GREGORIAN
METHOD:PUBLISH
UID:d96cb23f-0d7a-4b19-a24f-3f3be1eb18af
X-WR-CALDESC:Get a seated workout and dance to the music with Deirdre Burri
 ss of Chair One Fitness at Walkersville Library.
X-WR-RELCALID:336e1dc805a6c5724af2ab7bfc9ae111
X-WR-TIMEZONE:America/New_York
BEGIN:VTIMEZONE
TZID:America/New_York
BEGIN:STANDARD
TZNAME:EST
DTSTART:20251102T020000
TZOFFSETFROM:-0400
TZOFFSETTO:-0500
RDATE:20261101T020000
END:STANDARD
BEGIN:DAYLIGHT
TZNAME:EDT
DTSTART:20250309T020000
TZOFFSETFROM:-0500
TZOFFSETTO:-0400
RDATE:20260308T020000
RDATE:20270314T020000
END:DAYLIGHT
END:VTIMEZONE
BEGIN:VEVENT
UID:9e11a584-e154-4bf6-8002-da626ce86dc0
DTSTAMP:20260423T182326Z
DESCRIPTION:Get a seated workout and dance to the music with Deirdre Burris
 s of Chair One Fitness at Walkersville Library.
DTSTART;TZID=America/New_York:20260114T101500
DTEND;TZID=America/New_York:20260114T111500
LOCATION:Walkersville Branch Library\, 2 South Glade Road\, Walkersville\, 
 MD 21793 US
SUMMARY:Chair One Fitness - FCPL Adaptive Program
END:VEVENT
END:VCALENDAR
