BEGIN:VCALENDAR
VERSION:2.0
PRODID:-//www.arcfc.org//NONSGML kigkonsult.se iCalcreator 2.30.10//
CALSCALE:GREGORIAN
METHOD:PUBLISH
UID:bf3d23ea-c109-43e8-baa3-d28551866045
X-WR-CALDESC:Join Dr. Stacy Brenner of Tulip Tree Yoga at Myersville Librar
 y for a gentle and inclusive chair yoga practice.
X-WR-RELCALID:8e1e23e0aaf687ca2138615e1857345e
X-WR-TIMEZONE:America/New_York
BEGIN:VTIMEZONE
TZID:America/New_York
BEGIN:STANDARD
TZNAME:EST
DTSTART:20251102T020000
TZOFFSETFROM:-0400
TZOFFSETTO:-0500
RDATE:20261101T020000
END:STANDARD
BEGIN:DAYLIGHT
TZNAME:EDT
DTSTART:20250309T020000
TZOFFSETFROM:-0500
TZOFFSETTO:-0400
RDATE:20260308T020000
RDATE:20270314T020000
END:DAYLIGHT
END:VTIMEZONE
BEGIN:VEVENT
UID:c65df69f-acfb-4a17-bf7d-7066125b774a
DTSTAMP:20260423T182730Z
DESCRIPTION:Join Dr. Stacy Brenner of Tulip Tree Yoga at Myersville Library
  for a gentle and inclusive chair yoga practice.
DTSTART;TZID=America/New_York:20260112T130000
DTEND;TZID=America/New_York:20260112T140000
LOCATION:Myersville Community Library\, 8 Harp Place\, Myersville\, MD 2177
 3 US
SUMMARY:Flow Together - FCPL Adaptive Program
END:VEVENT
END:VCALENDAR
