BEGIN:VCALENDAR
VERSION:2.0
PRODID:-//www.arcfc.org//NONSGML kigkonsult.se iCalcreator 2.30.10//
CALSCALE:GREGORIAN
METHOD:PUBLISH
UID:9385969f-2372-4afb-affb-7cc1ffa0d1e9
X-WR-CALDESC:
X-WR-RELCALID:4be2523a047d66beec9321b5d9c0d3dc
X-WR-TIMEZONE:America/New_York
BEGIN:VTIMEZONE
TZID:America/New_York
BEGIN:STANDARD
TZNAME:EST
DTSTART:20251102T020000
TZOFFSETFROM:-0400
TZOFFSETTO:-0500
RDATE:20261101T020000
END:STANDARD
BEGIN:DAYLIGHT
TZNAME:EDT
DTSTART:20250309T020000
TZOFFSETFROM:-0500
TZOFFSETTO:-0400
RDATE:20260308T020000
RDATE:20270314T020000
END:DAYLIGHT
END:VTIMEZONE
BEGIN:VEVENT
UID:33ad6aa3-db61-4834-a6dd-3d84c91c08b8
DTSTAMP:20260425T112413Z
DESCRIPTION:
DTSTART;TZID=America/New_York:20251225T060000
DTEND;TZID=America/New_York:20251225T060001
LOCATION:
SUMMARY:OFFICE CLOSED - CHRISTMAS DAY
END:VEVENT
END:VCALENDAR
