BEGIN:VCALENDAR
VERSION:2.0
PRODID:-//www.arcfc.org//NONSGML kigkonsult.se iCalcreator 2.30.10//
CALSCALE:GREGORIAN
METHOD:PUBLISH
UID:617a806d-cb9d-4903-85cb-3c53640fa497
X-WR-CALDESC:
X-WR-RELCALID:a87fa542f3906abbe762a4f9da21db01
X-WR-TIMEZONE:America/New_York
BEGIN:VTIMEZONE
TZID:America/New_York
BEGIN:STANDARD
TZNAME:EST
DTSTART:20251102T020000
TZOFFSETFROM:-0400
TZOFFSETTO:-0500
RDATE:20261101T020000
END:STANDARD
BEGIN:DAYLIGHT
TZNAME:EDT
DTSTART:20250309T020000
TZOFFSETFROM:-0500
TZOFFSETTO:-0400
RDATE:20260308T020000
RDATE:20270314T020000
END:DAYLIGHT
END:VTIMEZONE
BEGIN:VEVENT
UID:e638c7b0-fb10-40bd-86db-caa6fb782973
DTSTAMP:20260425T131426Z
DESCRIPTION:
DTSTART;TZID=America/New_York:20251128T060000
DTEND;TZID=America/New_York:20251128T060001
LOCATION:
SUMMARY:OFFICE CLOSED - THANKSGIVING
END:VEVENT
END:VCALENDAR
