BEGIN:VCALENDAR
VERSION:2.0
PRODID:-//www.arcfc.org//NONSGML kigkonsult.se iCalcreator 2.30.10//
CALSCALE:GREGORIAN
METHOD:PUBLISH
UID:7c448ac7-b89b-4f14-8b20-d1c71712f2af
X-WR-CALDESC:
X-WR-RELCALID:3f95836afb58d3fb782dd3d53a549a29
X-WR-TIMEZONE:America/New_York
BEGIN:VTIMEZONE
TZID:America/New_York
BEGIN:STANDARD
TZNAME:EST
DTSTART:20251102T020000
TZOFFSETFROM:-0400
TZOFFSETTO:-0500
RDATE:20261101T020000
END:STANDARD
BEGIN:DAYLIGHT
TZNAME:EDT
DTSTART:20250309T020000
TZOFFSETFROM:-0500
TZOFFSETTO:-0400
RDATE:20260308T020000
RDATE:20270314T020000
END:DAYLIGHT
END:VTIMEZONE
BEGIN:VEVENT
UID:d83678d8-d3ec-4364-965b-88a61158d616
DTSTAMP:20260425T125907Z
DESCRIPTION:
DTSTART;TZID=America/New_York:20251127T060000
DTEND;TZID=America/New_York:20251127T060001
LOCATION:
SUMMARY:OFFICE CLOSED - THANKSGIVING
END:VEVENT
END:VCALENDAR
