BEGIN:VCALENDAR
VERSION:2.0
PRODID:-//www.arcfc.org//NONSGML kigkonsult.se iCalcreator 2.30.10//
CALSCALE:GREGORIAN
METHOD:PUBLISH
UID:18bf8b0f-11b0-4d20-a9a6-a29e4b501ba7
X-WR-CALDESC:This Voices of Ability meeting\, we will be meeting to talk ab
 out the history of self advocacy and sharing what we are thankful for.  Su
 ggestion donation of $5 for pizza and drinks.  Please RSVP to Megan Dewing
 .
X-WR-RELCALID:ef50f83632707c88564058ec1d9b93bc
X-WR-TIMEZONE:America/New_York
BEGIN:VTIMEZONE
TZID:America/New_York
BEGIN:STANDARD
TZNAME:EST
DTSTART:20251102T020000
TZOFFSETFROM:-0400
TZOFFSETTO:-0500
RDATE:20261101T020000
END:STANDARD
BEGIN:DAYLIGHT
TZNAME:EDT
DTSTART:20250309T020000
TZOFFSETFROM:-0500
TZOFFSETTO:-0400
RDATE:20260308T020000
RDATE:20270314T020000
END:DAYLIGHT
END:VTIMEZONE
BEGIN:VEVENT
UID:d94bf42b-2f48-4f5f-9066-ae01ca08b836
DTSTAMP:20260425T131049Z
DESCRIPTION:This Voices of Ability meeting\, we will be meeting to talk abo
 ut the history of self advocacy and sharing what we are thankful for.  Sug
 gestion donation of $5 for pizza and drinks.  Please RSVP to Megan Dewing.
DTSTART;TZID=America/New_York:20251112T160000
DTEND;TZID=America/New_York:20251112T180000
LOCATION:The Arc at Market Street\, 555 South Market Street\, Frederick\, A
 L 21701 US
SUMMARY:Voices of Ability Meeting (formerly Self-Advocates of Frederick Cou
 nty)
END:VEVENT
END:VCALENDAR
