BEGIN:VCALENDAR
VERSION:2.0
PRODID:-//www.arcfc.org//NONSGML kigkonsult.se iCalcreator 2.30.10//
CALSCALE:GREGORIAN
METHOD:PUBLISH
UID:01119e5a-607b-4345-af1f-766f97a2ebd0
X-WR-CALDESC:
X-WR-RELCALID:054212844d861b3565f209fcfc391fc4
X-WR-TIMEZONE:America/New_York
BEGIN:VTIMEZONE
TZID:America/New_York
BEGIN:STANDARD
TZNAME:EST
DTSTART:20241103T020000
TZOFFSETFROM:-0400
TZOFFSETTO:-0500
RDATE:20251102T020000
RDATE:20261101T020000
END:STANDARD
BEGIN:DAYLIGHT
TZNAME:EDT
DTSTART:20250309T020000
TZOFFSETFROM:-0500
TZOFFSETTO:-0400
RDATE:20260308T020000
RDATE:20270314T020000
END:DAYLIGHT
END:VTIMEZONE
BEGIN:VEVENT
UID:f114c3ae-f116-45be-a538-251e37a00f05
DTSTAMP:20260425T145749Z
DESCRIPTION:
DTSTART;TZID=America/New_York:20251013T060000
DTEND;TZID=America/New_York:20251013T060001
LOCATION:
SUMMARY:International Plain Language Day
END:VEVENT
END:VCALENDAR
