BEGIN:VCALENDAR
VERSION:2.0
PRODID:-//www.arcfc.org//NONSGML kigkonsult.se iCalcreator 2.30.10//
CALSCALE:GREGORIAN
METHOD:PUBLISH
UID:a8e6abd7-e065-4cbe-b7be-e27bcc2f1c92
X-WR-CALDESC:This Voices of Ability meeting\, we will be having a special g
 uest\, Archer O’Brien\, speaking about social security.  Suggestion donati
 on of $5 for pizza and drinks.  Please RSVP to Megan Dewing.
X-WR-RELCALID:830960d546cd5d26069b36d8bee6764e
X-WR-TIMEZONE:America/New_York
BEGIN:VTIMEZONE
TZID:America/New_York
BEGIN:STANDARD
TZNAME:EST
DTSTART:20241103T020000
TZOFFSETFROM:-0400
TZOFFSETTO:-0500
RDATE:20251102T020000
RDATE:20261101T020000
END:STANDARD
BEGIN:DAYLIGHT
TZNAME:EDT
DTSTART:20250309T020000
TZOFFSETFROM:-0500
TZOFFSETTO:-0400
RDATE:20260308T020000
RDATE:20270314T020000
END:DAYLIGHT
END:VTIMEZONE
BEGIN:VEVENT
UID:3d3f9717-30f5-42a3-aadf-237965eeecfb
DTSTAMP:20260425T145948Z
DESCRIPTION:This Voices of Ability meeting\, we will be having a special gu
 est\, Archer O’Brien\, speaking about social security.  Suggestion donatio
 n of $5 for pizza and drinks.  Please RSVP to Megan Dewing.
DTSTART;TZID=America/New_York:20251008T160000
DTEND;TZID=America/New_York:20251008T180000
LOCATION:The Arc at Market Street\, 555 South Market Street\, Frederick\, A
 L 21701 US
SUMMARY:Voices of Ability Meeting (formerly Self-Advocates of Frederick Cou
 nty)
END:VEVENT
END:VCALENDAR
