BEGIN:VCALENDAR
VERSION:2.0
PRODID:-//www.arcfc.org//NONSGML kigkonsult.se iCalcreator 2.30.10//
CALSCALE:GREGORIAN
METHOD:PUBLISH
UID:c407c9d4-78f6-4fa6-a6dc-c466dbaf600e
X-WR-CALDESC:SibShops is a workshop series for kids age 8-13 who are a sibl
 ing of someone with a disability. We will discuss issues related to being 
 a sibling of someone with a disability\, play\, do crafts\, eat snacks\, a
 nd just have fun!\n\nRegistration is required.
X-WR-RELCALID:a899c92468c52805bc4bbfa65af4d2a9
X-WR-TIMEZONE:America/New_York
BEGIN:VTIMEZONE
TZID:America/New_York
BEGIN:STANDARD
TZNAME:EST
DTSTART:20241103T020000
TZOFFSETFROM:-0400
TZOFFSETTO:-0500
RDATE:20251102T020000
RDATE:20261101T020000
END:STANDARD
BEGIN:DAYLIGHT
TZNAME:EDT
DTSTART:20250309T020000
TZOFFSETFROM:-0500
TZOFFSETTO:-0400
RDATE:20260308T020000
RDATE:20270314T020000
END:DAYLIGHT
END:VTIMEZONE
BEGIN:VEVENT
UID:554f754d-a906-4f06-82af-4cfb802b842d
DTSTAMP:20260425T162703Z
DESCRIPTION:SibShops is a workshop series for kids age 8-13 who are a sibli
 ng of someone with a disability. We will discuss issues related to being a
  sibling of someone with a disability\, play\, do crafts\, eat snacks\, an
 d just have fun!\n\nRegistration is required.
DTSTART;TZID=America/New_York:20250913T130000
DTEND;TZID=America/New_York:20250913T160000
LOCATION:The Arc at Market Street\, 555 South Market Street\, Frederick\, M
 D 21701 US
SUMMARY:Sibshops
END:VEVENT
END:VCALENDAR
