BEGIN:VCALENDAR
VERSION:2.0
PRODID:-//www.arcfc.org//NONSGML kigkonsult.se iCalcreator 2.30.10//
CALSCALE:GREGORIAN
METHOD:PUBLISH
UID:aba5b935-6f13-4f9e-8b39-3f8d933d8486
X-WR-CALDESC:This Self Advocacy meeting\, we will discuss our possible name
  change\, our mission and values\, and plans for the upcoming year.  Sugge
 stion donation of $5 for pizza and drinks.  Please RSVP to Megan Dewing.
X-WR-RELCALID:e494195929358beb055a85a2bc444213
X-WR-TIMEZONE:America/New_York
BEGIN:VTIMEZONE
TZID:America/New_York
BEGIN:STANDARD
TZNAME:EST
DTSTART:20241103T020000
TZOFFSETFROM:-0400
TZOFFSETTO:-0500
RDATE:20251102T020000
RDATE:20261101T020000
END:STANDARD
BEGIN:DAYLIGHT
TZNAME:EDT
DTSTART:20250309T020000
TZOFFSETFROM:-0500
TZOFFSETTO:-0400
RDATE:20260308T020000
END:DAYLIGHT
END:VTIMEZONE
BEGIN:VEVENT
UID:0e3a4e81-bae0-4173-bec3-b5f236e579ff
DTSTAMP:20260425T162734Z
DESCRIPTION:This Self Advocacy meeting\, we will discuss our possible name 
 change\, our mission and values\, and plans for the upcoming year.  Sugges
 tion donation of $5 for pizza and drinks.  Please RSVP to Megan Dewing.
DTSTART;TZID=America/New_York:20250910T160000
DTEND;TZID=America/New_York:20250910T180000
LOCATION:The Arc at Market Street\, 555 South Market Street\, Frederick\, M
 D 21701 US
SUMMARY:Frederick Self Advocacy Group
END:VEVENT
END:VCALENDAR
