BEGIN:VCALENDAR
VERSION:2.0
PRODID:-//www.arcfc.org//NONSGML kigkonsult.se iCalcreator 2.30.10//
CALSCALE:GREGORIAN
METHOD:PUBLISH
UID:123a45a5-1563-4445-a44a-3889c547e540
X-WR-CALDESC:
X-WR-RELCALID:43d8b1e00d4f5d29e85c2fc31cc5d794
X-WR-TIMEZONE:America/New_York
BEGIN:VTIMEZONE
TZID:America/New_York
BEGIN:STANDARD
TZNAME:EST
DTSTART:20241103T020000
TZOFFSETFROM:-0400
TZOFFSETTO:-0500
RDATE:20251102T020000
RDATE:20261101T020000
END:STANDARD
BEGIN:DAYLIGHT
TZNAME:EDT
DTSTART:20250309T020000
TZOFFSETFROM:-0500
TZOFFSETTO:-0400
RDATE:20260308T020000
END:DAYLIGHT
END:VTIMEZONE
BEGIN:VEVENT
UID:de597219-5f0c-4316-bc65-b38f408e5bf1
DTSTAMP:20260425T161654Z
DESCRIPTION:
DTSTART;TZID=America/New_York:20250901T060000
DTEND;TZID=America/New_York:20250901T060001
LOCATION:
SUMMARY:OFFICE CLOSED - LABOR DAY
END:VEVENT
END:VCALENDAR
