BEGIN:VCALENDAR
VERSION:2.0
PRODID:-//www.arcfc.org//NONSGML kigkonsult.se iCalcreator 2.30.10//
CALSCALE:GREGORIAN
METHOD:PUBLISH
UID:dd5613b2-0823-4721-b569-5205e07019de
X-WR-CALDESC:Join us for fun activities for the whole family!  Learn about 
 our programs and fellow community resources!
X-WR-RELCALID:ac7b427713d13a213ff39864e3ebf2c7
X-WR-TIMEZONE:America/New_York
BEGIN:VTIMEZONE
TZID:America/New_York
BEGIN:STANDARD
TZNAME:EST
DTSTART:20241103T020000
TZOFFSETFROM:-0400
TZOFFSETTO:-0500
RDATE:20251102T020000
RDATE:20261101T020000
END:STANDARD
BEGIN:DAYLIGHT
TZNAME:EDT
DTSTART:20250309T020000
TZOFFSETFROM:-0500
TZOFFSETTO:-0400
RDATE:20260308T020000
END:DAYLIGHT
END:VTIMEZONE
BEGIN:VEVENT
UID:42a1720b-516f-45c6-8ec7-9d85eb860f6f
DTSTAMP:20260425T175216Z
DESCRIPTION:Join us for fun activities for the whole family!  Learn about o
 ur programs and fellow community resources!
DTSTART;TZID=America/New_York:20250823T110000
DTEND;TZID=America/New_York:20250823T130000
LOCATION:The Arc at Market Street\, 555 South Market Street\, Frederick\, M
 D 21701 US
SUMMARY:Simmer Down From Summer Community Event
END:VEVENT
END:VCALENDAR
