BEGIN:VCALENDAR
VERSION:2.0
PRODID:-//www.arcfc.org//NONSGML kigkonsult.se iCalcreator 2.30.10//
CALSCALE:GREGORIAN
METHOD:PUBLISH
UID:5d288930-e48b-489b-9812-ac024b9608ea
X-WR-CALDESC:This Self Advocacy meeting\, we will be having our annual potl
 uck at Ballenger Creek Park!  Please RSVP to Megan Dewing.
X-WR-RELCALID:a6b36bd8469111b00064f48ca1335dc3
X-WR-TIMEZONE:America/New_York
BEGIN:VTIMEZONE
TZID:America/New_York
BEGIN:STANDARD
TZNAME:EST
DTSTART:20241103T020000
TZOFFSETFROM:-0400
TZOFFSETTO:-0500
RDATE:20251102T020000
RDATE:20261101T020000
END:STANDARD
BEGIN:DAYLIGHT
TZNAME:EDT
DTSTART:20250309T020000
TZOFFSETFROM:-0500
TZOFFSETTO:-0400
RDATE:20260308T020000
END:DAYLIGHT
END:VTIMEZONE
BEGIN:VEVENT
UID:ba11dfc8-f7d0-4200-a9c7-ba55d223e7b7
DTSTAMP:20260425T174723Z
DESCRIPTION:This Self Advocacy meeting\, we will be having our annual potlu
 ck at Ballenger Creek Park!  Please RSVP to Megan Dewing.
DTSTART;TZID=America/New_York:20250813T160000
DTEND;TZID=America/New_York:20250813T180000
LOCATION:Ballenger Creek Park's Pavilion 2\, 5420 Ballenger Creek Pike\, Fr
 ederick\, MD 21704 US
SUMMARY:Frederick Self Advocacy Group
END:VEVENT
END:VCALENDAR
