BEGIN:VCALENDAR
VERSION:2.0
PRODID:-//www.arcfc.org//NONSGML kigkonsult.se iCalcreator 2.30.10//
CALSCALE:GREGORIAN
METHOD:PUBLISH
UID:e05e043c-ee67-4132-9306-eb34517985a9
X-WR-CALDESC:Learn about food groups while playing Bingo!  They welcome all
  adults with developmental disabilities for this fun\, informative program
 .
X-WR-RELCALID:02bae8a0e14018b4bad8cf222ef49ea2
X-WR-TIMEZONE:America/New_York
BEGIN:VTIMEZONE
TZID:America/New_York
BEGIN:STANDARD
TZNAME:EST
DTSTART:20241103T020000
TZOFFSETFROM:-0400
TZOFFSETTO:-0500
RDATE:20251102T020000
RDATE:20261101T020000
END:STANDARD
BEGIN:DAYLIGHT
TZNAME:EDT
DTSTART:20250309T020000
TZOFFSETFROM:-0500
TZOFFSETTO:-0400
RDATE:20260308T020000
END:DAYLIGHT
END:VTIMEZONE
BEGIN:VEVENT
UID:bf363b54-9ab7-4046-9b46-979c5be75076
DTSTAMP:20260425T192228Z
DESCRIPTION:Learn about food groups while playing Bingo!  They welcome all 
 adults with developmental disabilities for this fun\, informative program.
DTSTART;TZID=America/New_York:20250718T110000
DTEND;TZID=America/New_York:20250718T120000
LOCATION:Brunswick Branch Library\, 915 North Maple Avenue\, Brunswick\, MD
  21716 US
SUMMARY:My Plate Bingo: Adult Adaptive Programming @ Brunswick Library
END:VEVENT
END:VCALENDAR
