BEGIN:VCALENDAR
VERSION:2.0
PRODID:-//www.arcfc.org//NONSGML kigkonsult.se iCalcreator 2.30.10//
CALSCALE:GREGORIAN
METHOD:PUBLISH
UID:7044282d-04d7-4a51-ad41-88f568d56a61
X-WR-CALDESC:Experience the creativity and expression of artists connected 
 with The Arc of Frederick County.  This exhibition showcases original artw
 ork that reflects the voices\, stories\, and talents of individuals with i
 ntellectual and developmental disabilities in our community.  Exhibitions 
 displayed in the Community Engagement Gallery are made possible through Th
 e Delaplaine's Community Engagement Program. These exhibitions provide vis
 itors with opportunities for exposure to the visual arts that are reflecti
 ve of the Frederick community.  Come celebrate the power of inclusion\, cr
 eativity\, and community.\n\nAdmission is free and open to the public.
X-WR-RELCALID:065a4c8888f558e6d2ba6b169abb1a84
X-WR-TIMEZONE:America/New_York
BEGIN:VTIMEZONE
TZID:America/New_York
BEGIN:STANDARD
TZNAME:EST
DTSTART:20241103T020000
TZOFFSETFROM:-0400
TZOFFSETTO:-0500
RDATE:20251102T020000
RDATE:20261101T020000
END:STANDARD
BEGIN:DAYLIGHT
TZNAME:EDT
DTSTART:20250309T020000
TZOFFSETFROM:-0500
TZOFFSETTO:-0400
RDATE:20260308T020000
END:DAYLIGHT
END:VTIMEZONE
BEGIN:VEVENT
UID:b118d7f9-84b2-4837-9db6-bacc399e17b2
DTSTAMP:20260425T174646Z
DESCRIPTION:Experience the creativity and expression of artists connected w
 ith The Arc of Frederick County.  This exhibition showcases original artwo
 rk that reflects the voices\, stories\, and talents of individuals with in
 tellectual and developmental disabilities in our community.  Exhibitions d
 isplayed in the Community Engagement Gallery are made possible through The
  Delaplaine's Community Engagement Program. These exhibitions provide visi
 tors with opportunities for exposure to the visual arts that are reflectiv
 e of the Frederick community.  Come celebrate the power of inclusion\, cre
 ativity\, and community.\n\nAdmission is free and open to the public.
DTSTART;TZID=America/New_York:20250705T060000
DTEND;TZID=America/New_York:20250831T060001
LOCATION:The Delaplaine Arts Center\, 40 South Carroll Street\, Frederick\,
  MD 21701 US
SUMMARY:The Arc Exhibit @ The Delaplaine Arts Center
END:VEVENT
END:VCALENDAR
