BEGIN:VCALENDAR
VERSION:2.0
PRODID:-//www.arcfc.org//NONSGML kigkonsult.se iCalcreator 2.30.10//
CALSCALE:GREGORIAN
METHOD:PUBLISH
UID:21acee26-0746-4ba9-8a41-4a871a62e940
X-WR-CALDESC:Join County Executive Jessica Fitzwater\, The Arc\, and the Fr
 ederick County Commission on Disabilities for a celebration of Disability 
 Pride Month.  We will celebrate with ice cream\, music\, and dancing to th
 e tune of talented musicians who have identified as having a disability.  
 Frederick Salsa will lead us in salsa dancing!  Due to limited space\, ple
 ase RSVP by emailing Abigail Lagonigro by June 24th.
X-WR-RELCALID:18a09cfc12147f9bb61626c28cbe651c
X-WR-TIMEZONE:America/New_York
BEGIN:VTIMEZONE
TZID:America/New_York
BEGIN:STANDARD
TZNAME:EST
DTSTART:20241103T020000
TZOFFSETFROM:-0400
TZOFFSETTO:-0500
RDATE:20251102T020000
RDATE:20261101T020000
END:STANDARD
BEGIN:DAYLIGHT
TZNAME:EDT
DTSTART:20250309T020000
TZOFFSETFROM:-0500
TZOFFSETTO:-0400
RDATE:20260308T020000
END:DAYLIGHT
END:VTIMEZONE
BEGIN:VEVENT
UID:aa298998-998c-4ae9-bb43-771c7f7574c2
DTSTAMP:20260425T191953Z
DESCRIPTION:Join County Executive Jessica Fitzwater\, The Arc\, and the Fre
 derick County Commission on Disabilities for a celebration of Disability P
 ride Month.  We will celebrate with ice cream\, music\, and dancing to the
  tune of talented musicians who have identified as having a disability.  F
 rederick Salsa will lead us in salsa dancing!  Due to limited space\, plea
 se RSVP by emailing Abigail Lagonigro by June 24th.
DTSTART;TZID=America/New_York:20250701T130000
DTEND;TZID=America/New_York:20250701T150000
LOCATION:The Arc at Market Street\, 555 South Market Street\, Frederick\, M
 D 21701 US
SUMMARY:Disability Pride Ice Cream Social
END:VEVENT
END:VCALENDAR
