BEGIN:VCALENDAR
VERSION:2.0
PRODID:-//www.arcfc.org//NONSGML kigkonsult.se iCalcreator 2.30.10//
CALSCALE:GREGORIAN
METHOD:PUBLISH
UID:ff630931-0a5b-4057-bd30-c9df22b4e9bd
X-WR-CALDESC:Tiene el placer de invitarles al Grupo de Apoyo Hispano para p
 ersonas con discapacidades\, sus familiares y cuidadores.  Tendremos confe
 rencias educativas\, apoyo para presentar Solicitudes y Referidos\, inform
 ación sobre programas y otras actividades.  Tendrá oportunidad de conocer 
 personas y grupos de nuestra comunidad.
X-WR-RELCALID:da670548572e9b8f15c17a1578d9511a
X-WR-TIMEZONE:America/New_York
BEGIN:VTIMEZONE
TZID:America/New_York
BEGIN:STANDARD
TZNAME:EST
DTSTART:20241103T020000
TZOFFSETFROM:-0400
TZOFFSETTO:-0500
RDATE:20251102T020000
RDATE:20261101T020000
END:STANDARD
BEGIN:DAYLIGHT
TZNAME:EDT
DTSTART:20250309T020000
TZOFFSETFROM:-0500
TZOFFSETTO:-0400
RDATE:20260308T020000
END:DAYLIGHT
END:VTIMEZONE
BEGIN:VEVENT
UID:a3fc3fdf-4793-4c52-805b-ba937a9c0e05
DTSTAMP:20260425T210800Z
DESCRIPTION:Tiene el placer de invitarles al Grupo de Apoyo Hispano para pe
 rsonas con discapacidades\, sus familiares y cuidadores.  Tendremos confer
 encias educativas\, apoyo para presentar Solicitudes y Referidos\, informa
 ción sobre programas y otras actividades.  Tendrá oportunidad de conocer p
 ersonas y grupos de nuestra comunidad.
DTSTART;TZID=America/New_York:20250621T110000
DTEND;TZID=America/New_York:20250621T130000
LOCATION:The Arc at Market Street\, 555 South Market Street\, Frederick\, M
 D 21701 US
SUMMARY:Grupo de Apoyo Hispano
END:VEVENT
END:VCALENDAR
