BEGIN:VCALENDAR
VERSION:2.0
PRODID:-//www.arcfc.org//NONSGML kigkonsult.se iCalcreator 2.30.10//
CALSCALE:GREGORIAN
METHOD:PUBLISH
UID:84deaaec-d93e-4640-aaeb-1e349d85fd60
X-WR-CALDESC:
X-WR-RELCALID:d830facc5ab8ae057a5c73d5406f6efa
X-WR-TIMEZONE:America/New_York
BEGIN:VTIMEZONE
TZID:America/New_York
BEGIN:STANDARD
TZNAME:EST
DTSTART:20241103T020000
TZOFFSETFROM:-0400
TZOFFSETTO:-0500
RDATE:20251102T020000
RDATE:20261101T020000
END:STANDARD
BEGIN:DAYLIGHT
TZNAME:EDT
DTSTART:20250309T020000
TZOFFSETFROM:-0500
TZOFFSETTO:-0400
RDATE:20260308T020000
END:DAYLIGHT
END:VTIMEZONE
BEGIN:VEVENT
UID:7157037f-bebe-4015-8482-2c839ed1f850
DTSTAMP:20260425T210456Z
DESCRIPTION:
DTSTART;TZID=America/New_York:20250619T060000
DTEND;TZID=America/New_York:20250619T060001
LOCATION:
SUMMARY:OFFICE CLOSED - JUNETEENTH
END:VEVENT
END:VCALENDAR
