BEGIN:VCALENDAR
VERSION:2.0
PRODID:-//www.arcfc.org//NONSGML kigkonsult.se iCalcreator 2.30.10//
CALSCALE:GREGORIAN
METHOD:PUBLISH
UID:0001c05b-2332-4891-a9b4-9d35c61db9f0
X-WR-CALDESC:Walkersville Library is hosting music therapist Marsha Hudson 
 for an hour of musical exploration for adults with developmental disabilit
 ies.
X-WR-RELCALID:10c7b20228a762dd735a80ad110b044e
X-WR-TIMEZONE:America/New_York
BEGIN:VTIMEZONE
TZID:America/New_York
BEGIN:STANDARD
TZNAME:EST
DTSTART:20241103T020000
TZOFFSETFROM:-0400
TZOFFSETTO:-0500
RDATE:20251102T020000
RDATE:20261101T020000
END:STANDARD
BEGIN:DAYLIGHT
TZNAME:EDT
DTSTART:20250309T020000
TZOFFSETFROM:-0500
TZOFFSETTO:-0400
RDATE:20260308T020000
END:DAYLIGHT
END:VTIMEZONE
BEGIN:VEVENT
UID:d91d1eb5-d907-4832-87a3-0504d56ad647
DTSTAMP:20260425T210816Z
DESCRIPTION:Walkersville Library is hosting music therapist Marsha Hudson f
 or an hour of musical exploration for adults with developmental disabiliti
 es.
DTSTART;TZID=America/New_York:20250618T101500
DTEND;TZID=America/New_York:20250618T111500
LOCATION:Walkersville Branch Library\,  2 S. Glade Road\, Walkersville\, MD
  21793 US
SUMMARY:Music Therapy: Adult Adaptive Programming @ Walkersville Library
END:VEVENT
END:VCALENDAR
