BEGIN:VCALENDAR
VERSION:2.0
PRODID:-//www.arcfc.org//NONSGML kigkonsult.se iCalcreator 2.30.10//
CALSCALE:GREGORIAN
METHOD:PUBLISH
UID:52244020-88f4-4ed6-8b30-8f4eb2e2d2cf
X-WR-CALDESC:Walkersville Library is hosting an hour of bingo for adults wi
 th developmental disabilities.
X-WR-RELCALID:fc154e69b0baaf55f97079a9fa6a3362
X-WR-TIMEZONE:America/New_York
BEGIN:VTIMEZONE
TZID:America/New_York
BEGIN:STANDARD
TZNAME:EST
DTSTART:20241103T020000
TZOFFSETFROM:-0400
TZOFFSETTO:-0500
RDATE:20251102T020000
RDATE:20261101T020000
END:STANDARD
BEGIN:DAYLIGHT
TZNAME:EDT
DTSTART:20250309T020000
TZOFFSETFROM:-0500
TZOFFSETTO:-0400
RDATE:20260308T020000
END:DAYLIGHT
END:VTIMEZONE
BEGIN:VEVENT
UID:9c860554-a558-4c71-8325-46abe552efaa
DTSTAMP:20260425T210659Z
DESCRIPTION:Walkersville Library is hosting an hour of bingo for adults wit
 h developmental disabilities.
DTSTART;TZID=America/New_York:20250604T101500
DTEND;TZID=America/New_York:20250604T111500
LOCATION:Walkersville Branch Library\,  2 S. Glade Road\, Walkersville\, MD
  21793 US
SUMMARY:Bingo: Adult Adaptive Programming @ Walkersville Library
END:VEVENT
END:VCALENDAR
