BEGIN:VCALENDAR
VERSION:2.0
PRODID:-//www.arcfc.org//NONSGML kigkonsult.se iCalcreator 2.30.10//
CALSCALE:GREGORIAN
METHOD:PUBLISH
UID:3f61813b-9804-4895-824b-157c9e7f9def
X-WR-CALDESC:
X-WR-RELCALID:4573984a1ab90c809966e0af5a457b14
X-WR-TIMEZONE:America/New_York
BEGIN:VTIMEZONE
TZID:America/New_York
BEGIN:STANDARD
TZNAME:EST
DTSTART:20241103T020000
TZOFFSETFROM:-0400
TZOFFSETTO:-0500
RDATE:20251102T020000
RDATE:20261101T020000
END:STANDARD
BEGIN:DAYLIGHT
TZNAME:EDT
DTSTART:20250309T020000
TZOFFSETFROM:-0500
TZOFFSETTO:-0400
RDATE:20260308T020000
END:DAYLIGHT
END:VTIMEZONE
BEGIN:VEVENT
UID:a5e2bbb8-190b-4662-b1ac-b380ed73969b
DTSTAMP:20260425T230225Z
DESCRIPTION:
DTSTART;TZID=America/New_York:20250521T100000
DTEND;TZID=America/New_York:20250521T113000
LOCATION:The Arc of Washington County\, 1000 Florida Avenue\, Hagerstown\, 
 MD 21740 US
SUMMARY:Tristate Civitan Spring Show
END:VEVENT
END:VCALENDAR
